BEGIN:VCALENDAR
VERSION:2.0
PRODID:-//eventon.com NONSGML v1.0//EN
CALSCALE:GREGORIAN
METHOD:PUBLISH
BEGIN:VEVENT
UID:69e62a96b3bf1
DTSTAMP:20260420T133102Z
DTSTART:20250403T130000Z
DTEND:20250403T163000Z
LOCATION:Feuerwehr Hamburger Str. 28
SUMMARY:AWO
DESCRIPTION:AWO\nhttps://www.grossensee.eu/veranstaltung/awo/var/ri-18.l-L1
URL:https://www.grossensee.eu/veranstaltung/awo/var/ri-18.l-L1
END:VEVENT
END:VCALENDAR