BEGIN:VCALENDAR
VERSION:2.0
PRODID:-//eventon.com NONSGML v1.0//EN
CALSCALE:GREGORIAN
METHOD:PUBLISH
BEGIN:VEVENT
UID:69e738269c564
DTSTAMP:20260421T084110Z
DTSTART:20250625T173000Z
DTEND:20250625T191500Z
LOCATION:Sportpark Am Sportplatz 1
SUMMARY:S(w)inging Großensee
DESCRIPTION:S(w)inging Großensee\nhttps://www.grossensee.eu/veranstaltung/
 swinging-grossensee/var/ri-30.l-L1
URL:https://www.grossensee.eu/veranstaltung/swinging-grossensee/var/ri-30.l-L1
END:VEVENT
END:VCALENDAR