BEGIN:VCALENDAR
VERSION:2.0
PRODID:-//eventon.com NONSGML v1.0//EN
CALSCALE:GREGORIAN
METHOD:PUBLISH
BEGIN:VEVENT
UID:69e7c34313dca
DTSTAMP:20260421T183443Z
DTSTART:20260428T170000Z
DTEND:20260428T193000Z
LOCATION:Piccolino Trittauer Str. 19
SUMMARY:Gemeindevertretersitzung
DESCRIPTION:Die Gemeindevertretersitzung findet am 28.04.2026 statt\,  der 
 Termin wird am 30.04.2026 fortgesetzt.\nhttps://www.grossensee.eu/veranstal
 tung/gemeindevertretersitzung-8/
URL:https://www.grossensee.eu/veranstaltung/gemeindevertretersitzung-8/
END:VEVENT
END:VCALENDAR