BEGIN:VCALENDAR
VERSION:2.0
PRODID:-//eventon.com NONSGML v1.0//EN
CALSCALE:GREGORIAN
METHOD:PUBLISH
BEGIN:VEVENT
UID:69ea9013ecea2
DTSTAMP:20260423T213307Z
DTSTART:20261006T170000Z
DTEND:20261006T190000Z
LOCATION:Sportpark Am Sportplatz 1
SUMMARY:Flöten- und Fanfarengruppe
DESCRIPTION:Flöten- und Fanfarengruppe\nhttps://www.grossensee.eu/veransta
 ltung/floeten-und-fanfarengruppe/var/ri-34.l-L1
URL:https://www.grossensee.eu/veranstaltung/floeten-und-fanfarengruppe/var/ri-34.l-L1
END:VEVENT
END:VCALENDAR