BEGIN:VCALENDAR
VERSION:2.0
PRODID:-//eventon.com NONSGML v1.0//EN
CALSCALE:GREGORIAN
METHOD:PUBLISH
BEGIN:VEVENT
UID:69eaab060a729
DTSTAMP:20260423T232806Z
DTSTART:20261013T170000Z
DTEND:20261013T190000Z
LOCATION:Sportpark Am Sportplatz 1
SUMMARY:Flöten- und Fanfarengruppe
DESCRIPTION:Flöten- und Fanfarengruppe\nhttps://www.grossensee.eu/veransta
 ltung/floeten-und-fanfarengruppe/var/ri-35.l-L1
URL:https://www.grossensee.eu/veranstaltung/floeten-und-fanfarengruppe/var/ri-35.l-L1
END:VEVENT
END:VCALENDAR