BEGIN:VCALENDAR
VERSION:2.0
PRODID:-//eventon.com NONSGML v1.0//EN
CALSCALE:GREGORIAN
METHOD:PUBLISH
BEGIN:VEVENT
UID:69eae061c1520
DTSTAMP:20260424T031545Z
DTSTART:20261027T180000Z
DTEND:20261027T200000Z
LOCATION:Sportpark Am Sportplatz 1
SUMMARY:Flöten- und Fanfarengruppe
DESCRIPTION:Flöten- und Fanfarengruppe\nhttps://www.grossensee.eu/veransta
 ltung/floeten-und-fanfarengruppe/var/ri-37.l-L1
URL:https://www.grossensee.eu/veranstaltung/floeten-und-fanfarengruppe/var/ri-37.l-L1
END:VEVENT
END:VCALENDAR